BEGIN:VCALENDAR
VERSION:2.0
PRODID:-//Squarespace Inc/Squarespace 6//v6//EN
BEGIN:VEVENT
UID:5e1fefea6520195adfbdbe3d@squarespace.com
DTSTAMP:20200116T061205Z
DTSTART:20200323T013000Z
DTEND:20200323T043000Z
SUMMARY:Effectively marketing and promoting your business workshop - Cockbu
 rn
GEO:-32.066949;115.639153
LOCATION:Cockburn\, Australia
END:VEVENT
END:VCALENDAR
